BEGIN:VCALENDAR
VERSION:2.0
PRODID:-//Squarespace Inc/Squarespace 6//v6//EN
BEGIN:VEVENT
UID:57870b5b03596edb2dceeb6c@squarespace.com
DTSTAMP:20160714T035608Z
DTSTART:20160727T230000Z
DTEND:20160929T013000Z
SUMMARY:Alpha at Coast Vineyard
GEO:-36.617755;174.677334
LOCATION:The Coast Vineyard Hub\, 13 Agency Lane\, Silverdale\, Auckland\, 
 0932\, New Zealand
END:VEVENT
END:VCALENDAR
