BEGIN:VCALENDAR
VERSION:2.0
PRODID:-//Squarespace Inc/Squarespace 6//v6//EN
BEGIN:VEVENT
UID:581266b146c3c437b99cdcb2@squarespace.com
DTSTAMP:20161215T194547Z
DTSTART:20170217T000000Z
DTEND:20170218T190000Z
SUMMARY:Coast Summer Escape
GEO:-35.831864;174.465186
LOCATION:Marsden Bay Christian Camp\, 89A One Tree Point Rd\, One Tree Poin
 t\, Northland\, 0118\, New Zealand
END:VEVENT
END:VCALENDAR
