BEGIN:VCALENDAR
VERSION:2.0
PRODID:-//Squarespace Inc/Squarespace 6//v6//EN
BEGIN:VEVENT
UID:57b62841197aea70a37a2b60@squarespace.com
DTSTAMP:20160818T213757Z
DTSTART:20160912T230000Z
DTEND:20160913T013000Z
SUMMARY:Carter Quinley from Nvader Thailand - Anti-Trafficking
GEO:-36.617755;174.677334
LOCATION:Coast Vineyard Hub\, 13 Agency Lane\, Silverdale\, Auckland\, 0932
 \, New Zealand
END:VEVENT
END:VCALENDAR
