BEGIN:VCALENDAR
VERSION:2.0
PRODID:-//Squarespace Inc/Squarespace 6//v6//EN
BEGIN:VEVENT
UID:5771c067725e25bae6381c79@squarespace.com
DTSTAMP:20160628T001846Z
DTSTART:20160721T223000Z
DTEND:20160724T013000Z
SUMMARY:The Vineyard Conference 2016
GEO:-36.796539;174.768995
LOCATION:Harbourside Church\, 48 Esmonde Road\, Auckland\, Auckland\, 0622\
 , New Zealand
END:VEVENT
END:VCALENDAR
