BEGIN:VCALENDAR
VERSION:2.0
PRODID:-//Squarespace Inc/Squarespace 6//v6//EN
BEGIN:VEVENT
UID:574776fb2fe131504cce13fe@squarespace.com
DTSTAMP:20160526T224330Z
DTSTART:20160624T110000Z
DTEND:20160627T010000Z
SUMMARY:Long Weekend of Prayer
GEO:-36.617755;174.677334
LOCATION:The Hub\, 13 Agency Lane\, Silverdale\, Auckland\, 0932\, New Zeal
 and
END:VEVENT
END:VCALENDAR
