BEGIN:VCALENDAR
VERSION:2.0
PRODID:-//Squarespace Inc/Squarespace 6//v6//EN
BEGIN:VEVENT
UID:57437b90ab48de86e9ff1415@squarespace.com
DTSTAMP:20160523T215457Z
DTSTART:20160618T230000Z
DTEND:20160619T011500Z
SUMMARY:Movie Night - "War Room"
GEO:-36.617755;174.677334
LOCATION:The Hub\, 13 Agency Lane\, Silverdale\, Auckland\, 0932\, New Zeal
 and
END:VEVENT
END:VCALENDAR
