BEGIN:VCALENDAR
VERSION:2.0
PRODID:-//Squarespace Inc/Squarespace 6//v6//EN
BEGIN:VEVENT
UID:570c4104d51cd428a1ebc153@squarespace.com
DTSTAMP:20160412T003034Z
DTSTART:20160422T230000Z
DTEND:20160423T013000Z
SUMMARY:International Potluck Dinner
GEO:-36.617755;174.677334
LOCATION:The Hub\, 13 Agency Lane\, Silverdale\, Auckland\, 0932\, New Zeal
 and
END:VEVENT
END:VCALENDAR
