BEGIN:VCALENDAR
VERSION:2.0
PRODID:-//Squarespace Inc/Squarespace 6//v6//EN
BEGIN:VEVENT
UID:56b9414127d4bdc79294e3fb@squarespace.com
DTSTAMP:20160209T013958Z
DTSTART:20160324T200000Z
DTEND:20160328T180000Z
SUMMARY:Easter Camp (Youth 13-18)
GEO:-37.873137;175.34826
LOCATION:Mystery Creek Events Centre\, 125 Mystery Creek Rd\, Hamilton 3206
 \, New Zealand
END:VEVENT
END:VCALENDAR
