BEGIN:VCALENDAR
VERSION:2.0
PRODID:-//Squarespace Inc/Squarespace 6//v6//EN
BEGIN:VEVENT
UID:56b9443f01dbae64ff727377@squarespace.com
DTSTAMP:20160209T015524Z
DTSTART:20160325T160000Z
DTEND:20160328T160000Z
SUMMARY:eCamp (Intermediate Schoolers)
GEO:-37.990155;175.6562
LOCATION:Finlay Park Adventure Camp\, 117 Finlay Road\, Maungatautari 3494\
 , New Zealand
END:VEVENT
END:VCALENDAR
