BEGIN:VCALENDAR
VERSION:2.0
PRODID:-//Squarespace Inc/Squarespace 6//v6//EN
BEGIN:VEVENT
UID:56b9491ac2ea51d154e9fa47@squarespace.com
DTSTAMP:20160209T021206Z
DTSTART:20160227T193000Z
DTEND:20160228T213000Z
SUMMARY:Nourish Garden Tea Party
GEO:-36.671888;174.675409
LOCATION:The Lillys\, 335 Bawden Road\, Dairy Flat\, New Zealand
END:VEVENT
END:VCALENDAR
