BEGIN:VCALENDAR
VERSION:2.0
PRODID:-//Squarespace Inc/Squarespace 6//v6//EN
BEGIN:VEVENT
UID:56b94d0b45bf215fdc2fd5d0@squarespace.com
DTSTAMP:20160209T022238Z
DTSTART:20160214T150000Z
DTEND:20160214T163000Z
SUMMARY:Guest Speaker Gary Best at Coast
GEO:-36.62291;174.72771
LOCATION:Stanmore Bay School\, 30 Waiora Rd\, Stanmore Bay\, New Zealand
END:VEVENT
END:VCALENDAR
