BEGIN:VCALENDAR
VERSION:2.0
PRODID:-//Squarespace Inc/Squarespace 6//v6//EN
BEGIN:VEVENT
UID:582bc9cf893fc0bf7fc7aeb4@squarespace.com
DTSTAMP:20161209T020546Z
DTSTART:20161209T053000Z
DTEND:20161209T090000Z
SUMMARY:Men's Dinner and Bowling Night
GEO:-36.635416;174.740124
LOCATION:Roti Indian Cuisine\, 15 Karepiro Drive\, Whangaparaoa\, Auckland\
 , 0932\, New Zealand
END:VEVENT
END:VCALENDAR
