BEGIN:VCALENDAR
VERSION:2.0
PRODID:-//Squarespace Inc/Squarespace 6//v6//EN
BEGIN:VEVENT
UID:5847932f8419c25015187c2e@squarespace.com
DTSTAMP:20161221T194504Z
DTSTART:20161224T060000Z
DTEND:20161224T070000Z
SUMMARY:Christmas Eve: Love Came Down
GEO:-36.62291;174.72771
LOCATION:Stanmore Bay School\, 30 Waiora Road\, Whangaparaoa\, Auckland\, 0
 932\, New Zealand
END:VEVENT
END:VCALENDAR
