BEGIN:VCALENDAR
VERSION:2.0
PRODID:-//Squarespace Inc/Squarespace 6//v6//EN
BEGIN:VEVENT
UID:582bc5e6cd0f6816126e2e41@squarespace.com
DTSTAMP:20161116T025024Z
DTSTART:20161119T143000Z
DTEND:20161119T163000Z
SUMMARY:Nourish - Walk and Talk
GEO:-36.598424;174.697469
LOCATION:Orewa Wharf Carpark\, 214E Hibiscus Coast Highway\, Orewa\, Auckla
 nd\, 0931\, New Zealand
END:VEVENT
END:VCALENDAR
