BEGIN:VCALENDAR
VERSION:2.0
PRODID:-//Squarespace Inc/Squarespace 6//v6//EN
BEGIN:VEVENT
UID:582274d629687f5694135f19@squarespace.com
DTSTAMP:20161109T011346Z
DTSTART:20161112T190000Z
DTEND:20161112T210000Z
SUMMARY:Volunteer Thank You Party
GEO:-36.671888;174.675409
LOCATION:The Lillys'\, 335 Bawden Road\, Dairy Flat\, Auckland\, 0792\, New 
 Zealand
END:VEVENT
END:VCALENDAR
