BEGIN:VCALENDAR
VERSION:2.0
PRODID:-//Squarespace Inc/Squarespace 6//v6//EN
BEGIN:VEVENT
UID:57fdb2038419c2d82f7467fc@squarespace.com
DTSTAMP:20161123T003257Z
DTSTART:20161127T173000Z
DTEND:20161127T193000Z
SUMMARY:Men's Lunch - The Wade Tavern
GEO:-36.621099;174.677533
LOCATION:The Wade Tavern\, 2 Tavern Road\, Silverdale\, Auckland\, 0932\, N
 ew Zealand
END:VEVENT
END:VCALENDAR
