BEGIN:VCALENDAR
VERSION:2.0
PRODID:-//Squarespace Inc/Squarespace 6//v6//EN
BEGIN:VEVENT
UID:57ed929820099e2216c6f5f8@squarespace.com
DTSTAMP:20161012T034509Z
DTSTART:20161015T230000Z
DTEND:20161016T020000Z
SUMMARY:Coast Quiz Night
GEO:-36.617755;174.677334
LOCATION:The Hub\, 13 Agency Lane\, Silverdale\, Auckland\, 0932\, New Zeal
 and
END:VEVENT
END:VCALENDAR
