BEGIN:VCALENDAR
VERSION:2.0
PRODID:-//Squarespace Inc/Squarespace 6//v6//EN
BEGIN:VEVENT
UID:55821c63e4b09e0cc2426408@squarespace.com
DTSTAMP:20150618T012117Z
DTSTART:20150705T230000Z
DTEND:20150708T011500Z
SUMMARY:Welcome Night - July
END:VEVENT
END:VCALENDAR
