BEGIN:VCALENDAR
VERSION:2.0
PRODID:-//Squarespace Inc/Squarespace 6//v6//EN
BEGIN:VEVENT
UID:565e54b2e4b0a6f556ad7b65@squarespace.com
DTSTAMP:20151203T202529Z
DTSTART:20151225T000000Z
DTEND:20151225T010000Z
SUMMARY:Christmas Eve Family Service
GEO:-36.62291;174.72771
LOCATION:Stanmore Bay School\, 30 Waiora Road\, Whangaparaoa\, Auckland\, 0
 932\, New Zealand
END:VEVENT
END:VCALENDAR
