BEGIN:VCALENDAR
VERSION:2.0
PRODID:-//Squarespace Inc/Squarespace 6//v6//EN
BEGIN:VEVENT
UID:564118a1e4b07ae26517a096@squarespace.com
DTSTAMP:20151201T012336Z
DTSTART:20151212T003000Z
DTEND:20151212T023000Z
SUMMARY:Volunteer Thank You Night
GEO:-36.617755;174.677334
LOCATION:The Hub\, 13 Agency Lane\, Silverdale\, Auckland\, 0932\, New Zeal
 and
END:VEVENT
END:VCALENDAR
