BEGIN:VCALENDAR
VERSION:2.0
PRODID:-//Squarespace Inc/Squarespace 6//v6//EN
BEGIN:VEVENT
UID:56297f22e4b0041cc5114db1@squarespace.com
DTSTAMP:20151023T003549Z
DTSTART:20151107T003000Z
DTEND:20151107T033000Z
SUMMARY:Guy Fawkes Bonfire
GEO:-36.671888;174.675409
LOCATION:The Lillys\, 335 Bawden Road\, Dairy Flat\, Auckland\, 0792\, New 
 Zealand
END:VEVENT
END:VCALENDAR
