BEGIN:VCALENDAR
VERSION:2.0
PRODID:-//Squarespace Inc/Squarespace 6//v6//EN
BEGIN:VEVENT
UID:56538f46e4b031a02c658432@squarespace.com
DTSTAMP:20160818T212253Z
DTSTART:20160911T230000Z
DTEND:20160912T004500Z
SUMMARY:Welcome Night - September
GEO:-36.671888;174.675409
LOCATION:The Lilly's House\, 335 Bawden Road\, Dairy Flat\, Auckland\, 0792
 \, New Zealand
END:VEVENT
END:VCALENDAR
