BEGIN:VCALENDAR
VERSION:2.0
PRODID:-//Squarespace Inc/Squarespace 6//v6//EN
BEGIN:VEVENT
UID:5641156ce4b0221a5e05f026@squarespace.com
DTSTAMP:20160209T020941Z
DTSTART:20160221T170000Z
DTEND:20160221T183000Z
SUMMARY:Connect Kids Lego Group
GEO:-36.62291;174.72771
LOCATION:Stanmore Bay School\, 30 Waiora Road\, Whangaparaoa\, Auckland\, 0
 932\, New Zealand
END:VEVENT
END:VCALENDAR
