BEGIN:VCALENDAR
VERSION:2.0
PRODID:-//Squarespace Inc/Squarespace 6//v6//EN
BEGIN:VEVENT
UID:56301a20e4b0d095d8e49bf3@squarespace.com
DTSTAMP:20151028T005024Z
DTSTART:20151028T010000Z
DTEND:20151028T020000Z
SUMMARY:RWC FINAL: All Blacks vs. Wallabies at THE HUB
GEO:-36.617754;174.677334
LOCATION:The Hub\, 13 Agency Lane\, Silverdale\, Auckland\, 0932\, New Zeal
 and
END:VEVENT
END:VCALENDAR
